BEGIN:VCALENDAR
VERSION:2.0
PRODID:-//Newport Restoration Foundation - ECPv6.15.20//NONSGML v1.0//EN
CALSCALE:GREGORIAN
METHOD:PUBLISH
X-ORIGINAL-URL:https://www.newportrestoration.org
X-WR-CALDESC:Events for Newport Restoration Foundation
REFRESH-INTERVAL;VALUE=DURATION:PT1H
X-Robots-Tag:noindex
X-PUBLISHED-TTL:PT1H
BEGIN:VTIMEZONE
TZID:America/New_York
BEGIN:DAYLIGHT
TZOFFSETFROM:-0500
TZOFFSETTO:-0400
TZNAME:EDT
DTSTART:20250309T070000
END:DAYLIGHT
BEGIN:STANDARD
TZOFFSETFROM:-0400
TZOFFSETTO:-0500
TZNAME:EST
DTSTART:20251102T060000
END:STANDARD
BEGIN:DAYLIGHT
TZOFFSETFROM:-0500
TZOFFSETTO:-0400
TZNAME:EDT
DTSTART:20260308T070000
END:DAYLIGHT
BEGIN:STANDARD
TZOFFSETFROM:-0400
TZOFFSETTO:-0500
TZNAME:EST
DTSTART:20261101T060000
END:STANDARD
BEGIN:DAYLIGHT
TZOFFSETFROM:-0500
TZOFFSETTO:-0400
TZNAME:EDT
DTSTART:20270314T070000
END:DAYLIGHT
BEGIN:STANDARD
TZOFFSETFROM:-0400
TZOFFSETTO:-0500
TZNAME:EST
DTSTART:20271107T060000
END:STANDARD
END:VTIMEZONE
BEGIN:VEVENT
DTSTART;TZID=America/New_York:20260423T160000
DTEND;TZID=America/New_York:20260423T170000
DTSTAMP:20260421T062430
CREATED:20260330T011127Z
LAST-MODIFIED:20260330T014552Z
UID:13329-1776960000-1776963600@www.newportrestoration.org
SUMMARY:From Olmsted to Doris Duke (and Beyond): Rough Point's Resilient Landscape
DESCRIPTION:In celebration of Rough Point’s new arboretum certification status\, we will be hosting a series of programs that share our resiliency work and showcase the historic landscape. \nJoin us for a guided tour of Rough Point’s coastal historic landscape. Explore the nearly 11 acres of grounds and gardens while you learn about Frederick Law Olmsted’s impact\, Doris Duke’s legacy gardens\, and how we are planning for the future resiliency and sustainability of the landscape in the wake of climate change. \nThis tour is part of our Keeping History Above Water at 10 celebrations. \nKnow before you go: This tour will take place outdoors (rain or shine) and requires walking on uneven ground. Unfortunately\, the grounds are not currently wheelchair accessible. \nTickets are limited! Secure yours here \nAbout Telling Stories: Guided Tours.  \nTelling Stories: Guided Tours at NRF goes deeper into the legacy of Doris Duke through the exploration of her life—including how her work preserving\, restoring\, and sharing Newport’s cultural heritage impacts us today. Each tour takes a closer look at the people behind the places and collections we care for.
URL:https://www.newportrestoration.org/event/from-olmsted-to-doris-duke-and-beyond-rough-points-resilient-landscape/
LOCATION:Rough Point Museum\, 680 Bellevue Avenue\, Newport\, RI\, 02840\, United States
CATEGORIES:Telling Stories: Guided Tours
ATTACH;FMTTYPE=image/jpeg:https://www.newportrestoration.org/wp-content/uploads/2025/04/20250328_113955-scaled.jpg
END:VEVENT
BEGIN:VEVENT
DTSTART;TZID=America/New_York:20260507T160000
DTEND;TZID=America/New_York:20260507T170000
DTSTAMP:20260421T062430
CREATED:20260412T212142Z
LAST-MODIFIED:20260412T214354Z
UID:13553-1778169600-1778173200@www.newportrestoration.org
SUMMARY:Fashioning Doris Duke: Inside the Fashion Collection at Rough Point
DESCRIPTION:Step inside Doris Duke’s closets on this guided tour that explores the legacy of Doris Duke’s through the collection of 2\,000+ items she left in her closets and our caretaking of this unique collection to preserve it for the future. \nThis tour will also include collection storage and Fashioning Resiliency\, on view in the Doris Duke Fashion Gallery. \nKnow before you go: While most of this tour is accessible by wheelchair\, this tour includes spaces that are not currently wheelchair accessible. \nTickets are limited! Reserve yours here \nPresented as part of Keeping History Above Water 10th Anniversary celebrations. Learn more here \nAbout Telling Stories: Guided Tours:\nTelling Stories: Guided Tours at NRF goes deeper into the legacy of Doris Duke through the exploration of her life—including how her work preserving\, restoring\, and sharing Newport’s cultural heritage impacts us today. Each tour takes a closer look at the people behind the places and collections we care for.
URL:https://www.newportrestoration.org/event/fashioning-doris-duke-inside-the-fashion-collection-at-rough-point-4/
LOCATION:Rough Point Museum\, 680 Bellevue Avenue\, Newport\, RI\, 02840\, United States
CATEGORIES:KEEPING HISTORY ABOVE WATER,Telling Stories: Guided Tours
ATTACH;FMTTYPE=image/jpeg:https://www.newportrestoration.org/wp-content/uploads/2025/05/DorisCloset-6-scaled.jpg
END:VEVENT
BEGIN:VEVENT
DTSTART;TZID=America/New_York:20260514T160000
DTEND;TZID=America/New_York:20260514T170000
DTSTAMP:20260421T062430
CREATED:20260412T182818Z
LAST-MODIFIED:20260412T182942Z
UID:13522-1778774400-1778778000@www.newportrestoration.org
SUMMARY:Neighborhood Walk: Keeping History Above Water
DESCRIPTION:Sea-level rise\, increasingly damaging storms\, and flooding are threatening our communities. What can we do to plan for a more resilient future? This walking tour will identify some of the drivers behind flood vulnerability\, approaches to protect historic properties from rising tides\, and highlight opportunities and challenges facing Newport to unify resiliency and preservation initiatives citywide. While the tour will highlight case studies from NRF’s portfolio of historic properties\, the strategies discussed will be applicable for many homeowners and will broach interventions small to large. \nPresented as part of Keeping History Above Water 10th Anniversary celebrations. \nMay 14th & May 30th \nTickets are limited. Get yours here. \nKnow before you go: This tour begins at Storer Park and takes place rain or shine.  This tour includes walking over uneven sidewalks. \nAbout Telling Stories: Guided Tours. \nTelling Stories: Guided Tours at NRF goes deeper into the legacy of Doris Duke through the exploration of her life—including how her work preserving\, restoring\, and sharing Newport’s cultural heritage impacts us today. Each tour takes a closer look at the people behind the places and collections we care for.
URL:https://www.newportrestoration.org/event/neighborhood-walk-keeping-history-above-water/
LOCATION:Storer Park
CATEGORIES:KEEPING HISTORY ABOVE WATER,Telling Stories: Guided Tours,Walking Tour
ATTACH;FMTTYPE=image/jpeg:https://www.newportrestoration.org/wp-content/uploads/2024/03/PresProperties_WashingtonSt-scaled.jpg
END:VEVENT
BEGIN:VEVENT
DTSTART;TZID=America/New_York:20260521T160000
DTEND;TZID=America/New_York:20260521T170000
DTSTAMP:20260421T062430
CREATED:20260412T193418Z
LAST-MODIFIED:20260412T193429Z
UID:13547-1779379200-1779382800@www.newportrestoration.org
SUMMARY:Keeping Rough Point Above Water: Restoring Rough Point & Doris Duke's Preservation Legacy
DESCRIPTION:This Preservation Month\, explore Doris Duke’s legacy of historic preservation and get a look inside Restoring Rough Point—a comprehensive preservation campaign. \nThis tour will give you a look inside the ongoing restoration project at Rough Point—including spaces like the East Wing that are currently not open to the public. Learn about NRF’s preservation plan for Doris Duke’s 130+ year-old Newport home and how this work is part of our greater stewardship of the more than 80 historic sites in our care. \nKnow before you go: While most of this tour is accessible by wheelchair\, this tour includes spaces that are not currently wheelchair accessible. \nTickets are limited! Reserve yours here \nPresented as part of Keeping History Above Water 10th Anniversary celebrations. Learn more here \nAbout Telling Stories: Guided Tours:\nTelling Stories: Guided Tours at NRF goes deeper into the legacy of Doris Duke through the exploration of her life—including how her work preserving\, restoring\, and sharing Newport’s cultural heritage impacts us today. Each tour takes a closer look at the people behind the places and collections we care for.
URL:https://www.newportrestoration.org/event/keeping-rough-point-above-water-restoring-rough-point-doris-dukes-preservation-legacy/
LOCATION:Rough Point Museum\, 680 Bellevue Avenue\, Newport\, RI\, 02840\, United States
CATEGORIES:KEEPING HISTORY ABOVE WATER,Telling Stories: Guided Tours
ATTACH;FMTTYPE=image/jpeg:https://www.newportrestoration.org/wp-content/uploads/2025/04/BehindtheWalls-scaled.jpg
END:VEVENT
BEGIN:VEVENT
DTSTART;TZID=America/New_York:20260530T093000
DTEND;TZID=America/New_York:20260530T103000
DTSTAMP:20260421T062430
CREATED:20260412T183125Z
LAST-MODIFIED:20260412T183125Z
UID:13526-1780133400-1780137000@www.newportrestoration.org
SUMMARY:Neighborhood Walk: Keeping History Above Water
DESCRIPTION:Sea-level rise\, increasingly damaging storms\, and flooding are threatening our communities. What can we do to plan for a more resilient future? This walking tour will identify some of the drivers behind flood vulnerability\, approaches to protect historic properties from rising tides\, and highlight opportunities and challenges facing Newport to unify resiliency and preservation initiatives citywide. While the tour will highlight case studies from NRF’s portfolio of historic properties\, the strategies discussed will be applicable for many homeowners and will broach interventions small to large. \nPresented as part of Keeping History Above Water 10th Anniversary celebrations. \nMay 14th & May 30th \nTickets are limited. Get yours here. \nKnow before you go: This tour begins at Storer Park and takes place rain or shine.  This tour includes walking over uneven sidewalks. \nAbout Telling Stories: Guided Tours. \nTelling Stories: Guided Tours at NRF goes deeper into the legacy of Doris Duke through the exploration of her life—including how her work preserving\, restoring\, and sharing Newport’s cultural heritage impacts us today. Each tour takes a closer look at the people behind the places and collections we care for.
URL:https://www.newportrestoration.org/event/neighborhood-walk-keeping-history-above-water-2/
LOCATION:Storer Park
CATEGORIES:KEEPING HISTORY ABOVE WATER,Telling Stories: Guided Tours,Walking Tour
ATTACH;FMTTYPE=image/jpeg:https://www.newportrestoration.org/wp-content/uploads/2024/03/PresProperties_WashingtonSt-scaled.jpg
END:VEVENT
BEGIN:VEVENT
DTSTART;TZID=America/New_York:20260621T160000
DTEND;TZID=America/New_York:20260621T170000
DTSTAMP:20260421T062430
CREATED:20260412T213951Z
LAST-MODIFIED:20260412T213959Z
UID:13559-1782057600-1782061200@www.newportrestoration.org
SUMMARY:Garden Tour of Rough Point: Caring for Doris Duke’s Legacy Garden
DESCRIPTION:Doris Duke’s legacy gardens reflect her interest in sustainable horticulture and environmental conservation. Join us on this interactive guided tour of the Formal Garden and the Kitchen Garden with the NRF Gardener\, a unique working educational garden that provides produce for our community partners. Learn about the history of the gardens\, how NRF cares for the gardens today\, and get insights into your own gardening practices. \nKnow before you go: This tour will take place outdoors (rain or shine) and requires walking on uneven ground. Unfortunately\, the grounds are not currently wheelchair accessible. \nTickets are limited! Reserve yours here \nAbout Telling Stories: Guided Tours: \nTelling Stories: Guided Tours at NRF goes deeper into the legacy of Doris Duke through the exploration of her life—including how her work preserving\, restoring\, and sharing Newport’s cultural heritage impacts us today. Each tour takes a closer look at the people behind the places and collections we care for.
URL:https://www.newportrestoration.org/event/garden-tour-of-rough-point-caring-for-doris-dukes-legacy-garden-3/
LOCATION:Rough Point Museum\, 680 Bellevue Avenue\, Newport\, RI\, 02840\, United States
CATEGORIES:Telling Stories: Guided Tours
ATTACH;FMTTYPE=image/jpeg:https://www.newportrestoration.org/wp-content/uploads/2025/04/RPFromGarden-scaled.jpg
END:VEVENT
BEGIN:VEVENT
DTSTART;TZID=America/New_York:20260627T093000
DTEND;TZID=America/New_York:20260627T110000
DTSTAMP:20260421T062430
CREATED:20260330T005143Z
LAST-MODIFIED:20260330T005143Z
UID:13317-1782552600-1782558000@www.newportrestoration.org
SUMMARY:Neighborhood Walk: 1776|2026
DESCRIPTION:Many of the houses in Historic Hill were witnesses to the American Revolution. \nTake a walk through this neighborhood and discover the stories of the people who lived here\, learn about the house’s historic restorations on the eve of the Bicentennial\, and find out how NRF continues to care for these important sites today. \nIn conjunction with Revolutionary Vernon House: Commemorating America’s 250th Anniversary. \nA RI250 program. \nJune 27\, August 29 \nTickets are limited. Get yours here. \nKnow before you go: This tour begins at 46 Clarke Street/The Vernon House and takes place rain or shine. There is a restroom available onsite. This tour includes walking over uneven sidewalks. \nAbout Telling Stories: Guided Tours. \nTelling Stories: Guided Tours at NRF goes deeper into the legacy of Doris Duke through the exploration of her life—including how her work preserving\, restoring\, and sharing Newport’s cultural heritage impacts us today. Each tour takes a closer look at the people behind the places and collections we care for.
URL:https://www.newportrestoration.org/event/neighborhood-walk-17762026/
LOCATION:The Vernon House\, 46 Clarke Street\, Newport\, RI 02840\, United States
CATEGORIES:Telling Stories: Guided Tours,Vernon House,Walking Tour
ATTACH;FMTTYPE=image/jpeg:https://www.newportrestoration.org/wp-content/uploads/2026/03/47JohnStreetWalkingTour-scaled.jpg
END:VEVENT
BEGIN:VEVENT
DTSTART;TZID=America/New_York:20260723T160000
DTEND;TZID=America/New_York:20260723T170000
DTSTAMP:20260421T062430
CREATED:20260412T212246Z
LAST-MODIFIED:20260412T214301Z
UID:13555-1784822400-1784826000@www.newportrestoration.org
SUMMARY:Fashioning Doris Duke: Inside the Fashion Collection at Rough Point
DESCRIPTION:Step inside Doris Duke’s closets on this guided tour that explores the legacy of Doris Duke’s through the collection of 2\,000+ items she left in her closets and our caretaking of this unique collection to preserve it for the future. \nThis tour will also include collection storage and Fashioning Resiliency\, on view in the Doris Duke Fashion Gallery. \nKnow before you go: While most of this tour is accessible by wheelchair\, this tour includes spaces that are not currently wheelchair accessible. \nTickets are limited! Reserve yours here \nPresented as part of Keeping History Above Water 10th Anniversary celebrations. Learn more here \nAbout Telling Stories: Guided Tours:\nTelling Stories: Guided Tours at NRF goes deeper into the legacy of Doris Duke through the exploration of her life—including how her work preserving\, restoring\, and sharing Newport’s cultural heritage impacts us today. Each tour takes a closer look at the people behind the places and collections we care for.
URL:https://www.newportrestoration.org/event/fashioning-doris-duke-inside-the-fashion-collection-at-rough-point-5/
LOCATION:Rough Point Museum\, 680 Bellevue Avenue\, Newport\, RI\, 02840\, United States
CATEGORIES:KEEPING HISTORY ABOVE WATER,Telling Stories: Guided Tours
ATTACH;FMTTYPE=image/jpeg:https://www.newportrestoration.org/wp-content/uploads/2025/05/DorisCloset-6-scaled.jpg
END:VEVENT
BEGIN:VEVENT
DTSTART;TZID=America/New_York:20260725T093000
DTEND;TZID=America/New_York:20260725T110000
DTSTAMP:20260421T062430
CREATED:20260330T010152Z
LAST-MODIFIED:20260417T230144Z
UID:13322-1784971800-1784977200@www.newportrestoration.org
SUMMARY:Neighborhood Walk: From Revolution to Resiliency
DESCRIPTION:The success of Newport has always been dependent on the sea and the people who live here have a deep connection to the water. The Point neighborhood evolved from the colonial era to what it is today in response to major economic\, political\, cultural\, and environmental shifts. This tour will reflect on how this neighborhood has adapted—and continues to adapt to— the increasing effects of climate change. We will also commemorate the stories of the many generations of Newporters who lived in the houses that NRF cares for today. \nA RI250 program. \nJuly 25\, September 26 \nTickets are limited. Get yours here. \nKnow before you go: This tour begins at Bridge and Third Street and takes place rain or shine.  This tour includes walking over uneven sidewalks. \nAbout Telling Stories: Guided Tours. \nTelling Stories: Guided Tours at NRF goes deeper into the legacy of Doris Duke through the exploration of her life—including how her work preserving\, restoring\, and sharing Newport’s cultural heritage impacts us today. Each tour takes a closer look at the people behind the places and collections we care for.
URL:https://www.newportrestoration.org/event/neighborhood-walk-from-revolution-to-resiliency/
LOCATION:The Vernon House\, 46 Clarke Street\, Newport\, RI 02840\, United States
CATEGORIES:Telling Stories: Guided Tours,Vernon House,Walking Tour
ATTACH;FMTTYPE=image/jpeg:https://www.newportrestoration.org/wp-content/uploads/2026/03/IMG_7721-scaled.jpg
END:VEVENT
BEGIN:VEVENT
DTSTART;TZID=America/New_York:20260829T093000
DTEND;TZID=America/New_York:20260829T110000
DTSTAMP:20260421T062430
CREATED:20260330T005212Z
LAST-MODIFIED:20260330T005212Z
UID:13320-1787995800-1788001200@www.newportrestoration.org
SUMMARY:Neighborhood Walk: 1776|2026
DESCRIPTION:Many of the houses in Historic Hill were witnesses to the American Revolution. \nTake a walk through this neighborhood and discover the stories of the people who lived here\, learn about the house’s historic restorations on the eve of the Bicentennial\, and find out how NRF continues to care for these important sites today. \nIn conjunction with Revolutionary Vernon House: Commemorating America’s 250th Anniversary. \nA RI250 program. \nJune 27\, August 29 \nTickets are limited. Get yours here. \nKnow before you go: This tour begins at 46 Clarke Street/The Vernon House and takes place rain or shine. There is a restroom available onsite. This tour includes walking over uneven sidewalks. \nAbout Telling Stories: Guided Tours. \nTelling Stories: Guided Tours at NRF goes deeper into the legacy of Doris Duke through the exploration of her life—including how her work preserving\, restoring\, and sharing Newport’s cultural heritage impacts us today. Each tour takes a closer look at the people behind the places and collections we care for.
URL:https://www.newportrestoration.org/event/neighborhood-walk-17762026-2/
LOCATION:The Vernon House\, 46 Clarke Street\, Newport\, RI 02840\, United States
CATEGORIES:Telling Stories: Guided Tours,Vernon House,Walking Tour
ATTACH;FMTTYPE=image/jpeg:https://www.newportrestoration.org/wp-content/uploads/2026/03/47JohnStreetWalkingTour-scaled.jpg
END:VEVENT
BEGIN:VEVENT
DTSTART;TZID=America/New_York:20260917T160000
DTEND;TZID=America/New_York:20260917T170000
DTSTAMP:20260421T062430
CREATED:20260412T212452Z
LAST-MODIFIED:20260412T214152Z
UID:13557-1789660800-1789664400@www.newportrestoration.org
SUMMARY:Fashioning Doris Duke: Inside the Fashion Collection with Jill Palese
DESCRIPTION:Join contemporary fashion designer Jill Palese on a behind-the-scenes tour of the Fashioning Resiliency: Doris Duke’s Legacy of Conservation. Learn about the process of merging design\, invention\, and activism to create work that exposes the hidden costs of clothing and invites audiences to imagine a more sustainable future. \nKnow before you go: While most of this tour is accessible by wheelchair\, this tour includes spaces that are not currently wheelchair accessible. \nTickets are limited! Reserve yours here \nPresented as part of Keeping History Above Water 10th Anniversary celebrations. Learn more here \nAbout Telling Stories: Guided Tours:\nTelling Stories: Guided Tours at NRF goes deeper into the legacy of Doris Duke through the exploration of her life—including how her work preserving\, restoring\, and sharing Newport’s cultural heritage impacts us today. Each tour takes a closer look at the people behind the places and collections we care for.
URL:https://www.newportrestoration.org/event/fashioning-doris-duke-inside-the-fashion-collection-at-rough-point-6/
LOCATION:Rough Point Museum\, 680 Bellevue Avenue\, Newport\, RI\, 02840\, United States
CATEGORIES:KEEPING HISTORY ABOVE WATER,Telling Stories: Guided Tours
ATTACH;FMTTYPE=image/jpeg:https://www.newportrestoration.org/wp-content/uploads/2025/05/DorisCloset-6-scaled.jpg
END:VEVENT
BEGIN:VEVENT
DTSTART;TZID=America/New_York:20260926T093000
DTEND;TZID=America/New_York:20260926T110000
DTSTAMP:20260421T062430
CREATED:20260330T010228Z
LAST-MODIFIED:20260417T214039Z
UID:13327-1790415000-1790420400@www.newportrestoration.org
SUMMARY:Neighborhood Walk: From Revolution to Resiliency
DESCRIPTION:The success of Newport has always been dependent on the sea and the people who live here have a deep connection to the water. The Point neighborhood evolved from the colonial era to what it is today in response to major economic\, political\, cultural\, and environmental shifts. This tour will reflect on how this neighborhood has adapted—and continues to adapt to— the increasing effects of climate change. We will also commemorate the stories of the many generations of Newporters who lived in the houses that NRF cares for today. \nA RI250 program. \nJuly 25\, September 26 \nTickets are limited. Get yours here. \nKnow before you go: This tour begins at Bridge and Third Street and takes place rain or shine.  This tour includes walking over uneven sidewalks. \nAbout Telling Stories: Guided Tours. \nTelling Stories: Guided Tours at NRF goes deeper into the legacy of Doris Duke through the exploration of her life—including how her work preserving\, restoring\, and sharing Newport’s cultural heritage impacts us today. Each tour takes a closer look at the people behind the places and collections we care for.
URL:https://www.newportrestoration.org/event/neighborhood-walk-from-revolution-to-resiliency-2/
LOCATION:The Vernon House\, 46 Clarke Street\, Newport\, RI 02840\, United States
CATEGORIES:Telling Stories: Guided Tours,Vernon House,Walking Tour
ATTACH;FMTTYPE=image/jpeg:https://www.newportrestoration.org/wp-content/uploads/2026/03/IMG_7721-scaled.jpg
END:VEVENT
BEGIN:VEVENT
DTSTART;TZID=America/New_York:20261015T160000
DTEND;TZID=America/New_York:20261015T170000
DTSTAMP:20260421T062430
CREATED:20260412T193614Z
LAST-MODIFIED:20260412T211146Z
UID:13549-1792080000-1792083600@www.newportrestoration.org
SUMMARY:Keeping Rough Point Above Water: Restoring Rough Point & Doris Duke's Preservation Legacy
DESCRIPTION:This month marks the 58th anniversary of the establishment of the Newport Restoration Foundation. Explore Doris Duke’s legacy of historic preservation and get a look inside Restoring Rough Point—a comprehensive preservation campaign. \nThis tour will give you a look inside the ongoing restoration project at Rough Point—including spaces like the East Wing that are currently not open to the public. Learn about NRF’s preservation plan for Doris Duke’s 130+ year-old Newport home and how this work is part of our greater stewardship of the more than 80 historic sites in our care. \nKnow before you go: While most of this tour is accessible by wheelchair\, this tour includes spaces that are not currently wheelchair accessible. \nTickets are limited! Reserve yours here \nPresented as part of Keeping History Above Water 10th Anniversary celebrations. Learn more here \nAbout Telling Stories: Guided Tours:\nTelling Stories: Guided Tours at NRF goes deeper into the legacy of Doris Duke through the exploration of her life—including how her work preserving\, restoring\, and sharing Newport’s cultural heritage impacts us today. Each tour takes a closer look at the people behind the places and collections we care for.
URL:https://www.newportrestoration.org/event/keeping-rough-point-above-water-restoring-rough-point-doris-dukes-preservation-legacy-2/
LOCATION:Rough Point Museum\, 680 Bellevue Avenue\, Newport\, RI\, 02840\, United States
CATEGORIES:KEEPING HISTORY ABOVE WATER,Telling Stories: Guided Tours
ATTACH;FMTTYPE=image/jpeg:https://www.newportrestoration.org/wp-content/uploads/2025/04/BehindtheWalls-scaled.jpg
END:VEVENT
END:VCALENDAR