BEGIN:VCALENDAR
VERSION:2.0
PRODID:-//Newport Restoration Foundation - ECPv6.15.20//NONSGML v1.0//EN
CALSCALE:GREGORIAN
METHOD:PUBLISH
X-WR-CALNAME:Newport Restoration Foundation
X-ORIGINAL-URL:https://www.newportrestoration.org
X-WR-CALDESC:Events for Newport Restoration Foundation
REFRESH-INTERVAL;VALUE=DURATION:PT1H
X-Robots-Tag:noindex
X-PUBLISHED-TTL:PT1H
BEGIN:VTIMEZONE
TZID:America/New_York
BEGIN:DAYLIGHT
TZOFFSETFROM:-0500
TZOFFSETTO:-0400
TZNAME:EDT
DTSTART:20250309T070000
END:DAYLIGHT
BEGIN:STANDARD
TZOFFSETFROM:-0400
TZOFFSETTO:-0500
TZNAME:EST
DTSTART:20251102T060000
END:STANDARD
BEGIN:DAYLIGHT
TZOFFSETFROM:-0500
TZOFFSETTO:-0400
TZNAME:EDT
DTSTART:20260308T070000
END:DAYLIGHT
BEGIN:STANDARD
TZOFFSETFROM:-0400
TZOFFSETTO:-0500
TZNAME:EST
DTSTART:20261101T060000
END:STANDARD
BEGIN:DAYLIGHT
TZOFFSETFROM:-0500
TZOFFSETTO:-0400
TZNAME:EDT
DTSTART:20270314T070000
END:DAYLIGHT
BEGIN:STANDARD
TZOFFSETFROM:-0400
TZOFFSETTO:-0500
TZNAME:EST
DTSTART:20271107T060000
END:STANDARD
END:VTIMEZONE
BEGIN:VEVENT
DTSTART;TZID=America/New_York:20260425T140000
DTEND;TZID=America/New_York:20260425T150000
DTSTAMP:20260423T171549
CREATED:20260330T014451Z
LAST-MODIFIED:20260404T232100Z
UID:13349-1777125600-1777129200@www.newportrestoration.org
SUMMARY:Tree Talk: Celebrating Rough Point Arboretum
DESCRIPTION:In celebration of Rough Point’s new arboretum certification status\, we will be hosting a series of programs that share our resiliency work and showcase the historic landscape. \nJoin us for a free community celebration of Rough Point’s inauguration as a Level 1 Arboretum. Historic Rough Point is home over 200 trees\, many of which were planted by Fredrick Law Olmstead over 130 years ago—and others that predate his time. To celebrate\, we will be holding a walk-and-talk of Rough Point’s gardens and grounds. NRF staff and our friends at the Newport Tree Conservancy will share the history of the grounds\, point out Olmsted’s plantings\, discuss the natural and organic maintenance of the property\, and how we are moving toward a more coastally resilient and sustainable future.  \nWhile this event is free for all\, we ask that you please register here in advance. \n________________________________ \nAbout the Newport Tree Conservancy: \nThe Newport Tree Conservancy is committed to supporting the health and resiliency of trees in Newport\, RI. They are connecting the community with the city-wide arboretum\, and planting the next generation of Newport’s urban forest. \nLearn more at newporttreeconservancy.org.
URL:https://www.newportrestoration.org/event/tree-talk-celebrating-rough-point-arboretum/
LOCATION:Rough Point Museum\, 680 Bellevue Avenue\, Newport\, RI\, 02840\, United States
CATEGORIES:Community Event,ROUGH POINT MUSEUM,Talk
ATTACH;FMTTYPE=image/jpeg:https://www.newportrestoration.org/wp-content/uploads/2026/03/20250710_160824-scaled.jpg
END:VEVENT
END:VCALENDAR